BEGIN:VCALENDAR
VERSION:2.0
PRODID:-//Trawler-Calendar-Tool 0.2
METHOD:PUBLISH
BEGIN:VTIMEZONE
TZID:Europe/Berlin
BEGIN:STANDARD
TZNAME:CET
DTSTART:20100101T010000
RRULE:FREQ=YEARLY;BYDAY=-1SU;BYMONTH=10
TZOFFSETFROM:+0200
TZOFFSETTO:+0100
END:STANDARD
BEGIN:DAYLIGHT
TZNAME:CEST
DTSTART:20100101T010000
RRULE:FREQ=YEARLY;BYDAY=-1SU;BYMONTH=3
TZOFFSETFROM:+0100
TZOFFSETTO:+0200
END:DAYLIGHT
END:VTIMEZONE
X-WR-TIMEZONE:Europe/Berlin
X-ORIGINAL-URL:https://www.spd-nordend-ii.de/termine/
BEGIN:VEVENT
DTSTART;TZID=Europe/Berlin:20261201T190000
DTEND;TZID=Europe/Berlin:20261201T220000
LOCATION:Eckhaus\, Bornheimer Landstr. 45
SUMMARY:Offener SPD-Treff (Stammtisch)
DESCRIPTION:
X-ALT-DESC;FMTTYPE=text/plain:
PRIORITY:5
UID:wscms53062-nordendii-5cda8efb8a39bce3eba3a91071a4821d
URL:https://www.spd-nordend-ii.de/calendar53062.ics
END:VEVENT
END:VCALENDAR